BEGIN:VCALENDAR
VERSION:2.0
PRODID:-//East Celebrity Elite- Tewksbury - ECPv6.15.18//NONSGML v1.0//EN
CALSCALE:GREGORIAN
METHOD:PUBLISH
X-WR-CALNAME:East Celebrity Elite- Tewksbury
X-ORIGINAL-URL:https://ecetewksbury.com
X-WR-CALDESC:Events for East Celebrity Elite- Tewksbury
REFRESH-INTERVAL;VALUE=DURATION:PT1H
X-Robots-Tag:noindex
X-PUBLISHED-TTL:PT1H
BEGIN:VTIMEZONE
TZID:America/New_York
BEGIN:DAYLIGHT
TZOFFSETFROM:-0500
TZOFFSETTO:-0400
TZNAME:EDT
DTSTART:20210314T070000
END:DAYLIGHT
BEGIN:STANDARD
TZOFFSETFROM:-0400
TZOFFSETTO:-0500
TZNAME:EST
DTSTART:20211107T060000
END:STANDARD
BEGIN:DAYLIGHT
TZOFFSETFROM:-0500
TZOFFSETTO:-0400
TZNAME:EDT
DTSTART:20220313T070000
END:DAYLIGHT
BEGIN:STANDARD
TZOFFSETFROM:-0400
TZOFFSETTO:-0500
TZNAME:EST
DTSTART:20221106T060000
END:STANDARD
BEGIN:DAYLIGHT
TZOFFSETFROM:-0500
TZOFFSETTO:-0400
TZNAME:EDT
DTSTART:20230312T070000
END:DAYLIGHT
BEGIN:STANDARD
TZOFFSETFROM:-0400
TZOFFSETTO:-0500
TZNAME:EST
DTSTART:20231105T060000
END:STANDARD
END:VTIMEZONE
BEGIN:VEVENT
DTSTART;TZID=America/New_York:20220421T190000
DTEND;TZID=America/New_York:20220421T210000
DTSTAMP:20260423T115444
CREATED:20210608T192818Z
LAST-MODIFIED:20220413T133925Z
UID:7349-1650567600-1650574800@ecetewksbury.com
SUMMARY:Bomb Girls Practice
DESCRIPTION:
URL:https://ecetewksbury.com/event/bomb-girls-practice-2022-04-21/
LOCATION:Tewksbury Location\, 1500 Shawsheen St.\, Tewksbury\, MA\, 01876\, United States
CATEGORIES:Senior 4
END:VEVENT
BEGIN:VEVENT
DTSTART;TZID=America/New_York:20220421T190000
DTEND;TZID=America/New_York:20220421T210000
DTSTAMP:20260423T115444
CREATED:20210608T191840Z
LAST-MODIFIED:20220209T193225Z
UID:7056-1650567600-1650574800@ecetewksbury.com
SUMMARY:Fierce 5 Practice
DESCRIPTION:
URL:https://ecetewksbury.com/event/fierce-5-practice-2022-04-21/
LOCATION:Tewksbury Location\, 1500 Shawsheen St.\, Tewksbury\, MA\, 01876\, United States
CATEGORIES:Junior 5
END:VEVENT
BEGIN:VEVENT
DTSTART;TZID=America/New_York:20220420T190000
DTEND;TZID=America/New_York:20220420T210000
DTSTAMP:20260423T115444
CREATED:20210804T195646Z
LAST-MODIFIED:20220405T213114Z
UID:6966-1650481200-1650488400@ecetewksbury.com
SUMMARY:Wicked Practice
DESCRIPTION:
URL:https://ecetewksbury.com/event/wicked-practice-2-2022-04-20/
CATEGORIES:Junior 4
END:VEVENT
BEGIN:VEVENT
DTSTART;TZID=America/New_York:20220420T190000
DTEND;TZID=America/New_York:20220420T210000
DTSTAMP:20260423T115444
CREATED:20210608T193017Z
LAST-MODIFIED:20220405T215248Z
UID:7415-1650481200-1650488400@ecetewksbury.com
SUMMARY:Royal 5 Practice
DESCRIPTION:
URL:https://ecetewksbury.com/event/royal-5-practice-2022-04-20/
LOCATION:Tewksbury Location\, 1500 Shawsheen St.\, Tewksbury\, MA\, 01876\, United States
CATEGORIES:Senior Coed 5
END:VEVENT
BEGIN:VEVENT
DTSTART;TZID=America/New_York:20220420T170000
DTEND;TZID=America/New_York:20220420T190000
DTSTAMP:20260423T115444
CREATED:20210608T192411Z
LAST-MODIFIED:20220322T134807Z
UID:7204-1650474000-1650481200@ecetewksbury.com
SUMMARY:Angels Practice
DESCRIPTION:
URL:https://ecetewksbury.com/event/angels-practice-2022-04-20/
LOCATION:Tewksbury Location\, 1500 Shawsheen St.\, Tewksbury\, MA\, 01876\, United States
CATEGORIES:Small Senior 4.2
END:VEVENT
BEGIN:VEVENT
DTSTART;TZID=America/New_York:20220419T190000
DTEND;TZID=America/New_York:20220419T210000
DTSTAMP:20260423T115444
CREATED:20210925T012234Z
LAST-MODIFIED:20210925T012234Z
UID:8606-1650394800-1650402000@ecetewksbury.com
SUMMARY:Bombshells Extra Practice
DESCRIPTION:
URL:https://ecetewksbury.com/event/bombshells-extra-practice-2022-04-19/
CATEGORIES:Medium Senior 6
END:VEVENT
BEGIN:VEVENT
DTSTART;TZID=America/New_York:20220419T190000
DTEND;TZID=America/New_York:20220419T203000
DTSTAMP:20260423T115444
CREATED:20210925T003945Z
LAST-MODIFIED:20210925T003945Z
UID:8749-1650394800-1650400200@ecetewksbury.com
SUMMARY:Bomb Squad Extra Practice
DESCRIPTION:
URL:https://ecetewksbury.com/event/bomb-squad-extra-practice-2022-04-19/
END:VEVENT
BEGIN:VEVENT
DTSTART;TZID=America/New_York:20220419T183000
DTEND;TZID=America/New_York:20220419T210000
DTSTAMP:20260423T115444
CREATED:20210804T205400Z
LAST-MODIFIED:20210804T205400Z
UID:8653-1650393000-1650402000@ecetewksbury.com
SUMMARY:Rebels Practice
DESCRIPTION:
URL:https://ecetewksbury.com/event/rebels-practice-2-2022-04-19/
CATEGORIES:Medium Senior 4.2
END:VEVENT
BEGIN:VEVENT
DTSTART;TZID=America/New_York:20220419T183000
DTEND;TZID=America/New_York:20220419T210000
DTSTAMP:20260423T115444
CREATED:20210804T202735Z
LAST-MODIFIED:20220201T151420Z
UID:7126-1650393000-1650402000@ecetewksbury.com
SUMMARY:JWow Practice
DESCRIPTION:
URL:https://ecetewksbury.com/event/jwow-practice-2-2022-04-19/
CATEGORIES:Junior 6
END:VEVENT
BEGIN:VEVENT
DTSTART;TZID=America/New_York:20220418T190000
DTEND;TZID=America/New_York:20220418T210000
DTSTAMP:20260423T115444
CREATED:20210925T012234Z
LAST-MODIFIED:20210925T012234Z
UID:8605-1650308400-1650315600@ecetewksbury.com
SUMMARY:Bombshells Extra Practice
DESCRIPTION:
URL:https://ecetewksbury.com/event/bombshells-extra-practice-2022-04-18/
CATEGORIES:Medium Senior 6
END:VEVENT
BEGIN:VEVENT
DTSTART;TZID=America/New_York:20220418T190000
DTEND;TZID=America/New_York:20220418T210000
DTSTAMP:20260423T115444
CREATED:20210925T003945Z
LAST-MODIFIED:20210925T003945Z
UID:8748-1650308400-1650315600@ecetewksbury.com
SUMMARY:Bomb Squad Extra Practice
DESCRIPTION:
URL:https://ecetewksbury.com/event/bomb-squad-extra-practice-2022-04-18/
END:VEVENT
BEGIN:VEVENT
DTSTART;TZID=America/New_York:20220418T170000
DTEND;TZID=America/New_York:20220418T190000
DTSTAMP:20260423T115444
CREATED:20210925T000837Z
LAST-MODIFIED:20210925T000837Z
UID:8752-1650301200-1650308400@ecetewksbury.com
SUMMARY:Royal5 Extra Practice
DESCRIPTION:
URL:https://ecetewksbury.com/event/royal5-extra-practice-2022-04-18/
CATEGORIES:Senior Coed 5
END:VEVENT
BEGIN:VEVENT
DTSTART;TZID=America/New_York:20220417T180000
DTEND;TZID=America/New_York:20220417T220000
DTSTAMP:20260423T115444
CREATED:20210807T203843Z
LAST-MODIFIED:20220302T174042Z
UID:7693-1650218400-1650232800@ecetewksbury.com
SUMMARY:SWAT Practice
DESCRIPTION:
URL:https://ecetewksbury.com/event/swat-practice-2022-04-17/
END:VEVENT
BEGIN:VEVENT
DTSTART;TZID=America/New_York:20220417T100000
DTEND;TZID=America/New_York:20220417T130000
DTSTAMP:20260423T115444
CREATED:20210608T192027Z
LAST-MODIFIED:20210925T005523Z
UID:7091-1650189600-1650200400@ecetewksbury.com
SUMMARY:JWow Practice
DESCRIPTION:
URL:https://ecetewksbury.com/event/jwow-practice-2022-04-17/
LOCATION:Tewksbury Location\, 1500 Shawsheen St.\, Tewksbury\, MA\, 01876\, United States
CATEGORIES:Junior 6
END:VEVENT
BEGIN:VEVENT
DTSTART;TZID=America/New_York:20220416T190000
DTEND;TZID=America/New_York:20220416T210000
DTSTAMP:20260423T115444
CREATED:20210925T012234Z
LAST-MODIFIED:20210925T012234Z
UID:8604-1650135600-1650142800@ecetewksbury.com
SUMMARY:Bombshells Extra Practice
DESCRIPTION:
URL:https://ecetewksbury.com/event/bombshells-extra-practice-2022-04-16/
CATEGORIES:Medium Senior 6
END:VEVENT
BEGIN:VEVENT
DTSTART;TZID=America/New_York:20220416T180000
DTEND;TZID=America/New_York:20220416T200000
DTSTAMP:20260423T115444
CREATED:20210925T003945Z
LAST-MODIFIED:20210925T003945Z
UID:8747-1650132000-1650139200@ecetewksbury.com
SUMMARY:Bomb Squad Extra Practice
DESCRIPTION:
URL:https://ecetewksbury.com/event/bomb-squad-extra-practice-2022-04-16/
END:VEVENT
BEGIN:VEVENT
DTSTART;TZID=America/New_York:20220416T170000
DTEND;TZID=America/New_York:20220416T190000
DTSTAMP:20260423T115444
CREATED:20210925T000837Z
LAST-MODIFIED:20210925T000837Z
UID:8751-1650128400-1650135600@ecetewksbury.com
SUMMARY:Royal5 Extra Practice
DESCRIPTION:
URL:https://ecetewksbury.com/event/royal5-extra-practice-2022-04-16/
CATEGORIES:Senior Coed 5
END:VEVENT
BEGIN:VEVENT
DTSTART;TZID=America/New_York:20220416T160000
DTEND;TZID=America/New_York:20220416T180000
DTSTAMP:20260423T115444
CREATED:20210923T234538Z
LAST-MODIFIED:20210923T234538Z
UID:8655-1650124800-1650132000@ecetewksbury.com
SUMMARY:Rebels Extra Practice
DESCRIPTION:
URL:https://ecetewksbury.com/event/rebels-extra-practice-2022-04-16/
CATEGORIES:Medium Senior 4.2
END:VEVENT
BEGIN:VEVENT
DTSTART;TZID=America/New_York:20220416T150000
DTEND;TZID=America/New_York:20220416T180000
DTSTAMP:20260423T115444
CREATED:20210608T191840Z
LAST-MODIFIED:20220209T193225Z
UID:7055-1650121200-1650132000@ecetewksbury.com
SUMMARY:Fierce 5 Practice
DESCRIPTION:
URL:https://ecetewksbury.com/event/fierce-5-practice-2022-04-16/
LOCATION:Tewksbury Location\, 1500 Shawsheen St.\, Tewksbury\, MA\, 01876\, United States
CATEGORIES:Junior 5
END:VEVENT
BEGIN:VEVENT
DTSTART;TZID=America/New_York:20220416T110000
DTEND;TZID=America/New_York:20220416T140000
DTSTAMP:20260423T115444
CREATED:20210608T191222Z
LAST-MODIFIED:20210608T191222Z
UID:8787-1650106800-1650117600@ecetewksbury.com
SUMMARY:Wonder Girls Practice
DESCRIPTION:
URL:https://ecetewksbury.com/event/wonder-girls-update-2022-04-16/
LOCATION:Tewksbury Location\, 1500 Shawsheen St.\, Tewksbury\, MA\, 01876\, United States
CATEGORIES:Junior 3
END:VEVENT
BEGIN:VEVENT
DTSTART;TZID=America/New_York:20220415T190000
DTEND;TZID=America/New_York:20220415T210000
DTSTAMP:20260423T115444
CREATED:20210924T225600Z
LAST-MODIFIED:20220405T213923Z
UID:8716-1650049200-1650056400@ecetewksbury.com
SUMMARY:Wicked Extra Practice
DESCRIPTION:
URL:https://ecetewksbury.com/event/wicked-extra-practice-2022-04-15/
CATEGORIES:Junior 4
END:VEVENT
BEGIN:VEVENT
DTSTART;TZID=America/New_York:20220415T180000
DTEND;TZID=America/New_York:20220415T200000
DTSTAMP:20260423T115444
CREATED:20210925T012234Z
LAST-MODIFIED:20210925T012234Z
UID:8603-1650045600-1650052800@ecetewksbury.com
SUMMARY:Bombshells Extra Practice
DESCRIPTION:
URL:https://ecetewksbury.com/event/bombshells-extra-practice-2022-04-15/
CATEGORIES:Medium Senior 6
END:VEVENT
BEGIN:VEVENT
DTSTART;TZID=America/New_York:20220415T180000
DTEND;TZID=America/New_York:20220415T200000
DTSTAMP:20260423T115444
CREATED:20210925T003945Z
LAST-MODIFIED:20210925T003945Z
UID:8746-1650045600-1650052800@ecetewksbury.com
SUMMARY:Bomb Squad Extra Practice
DESCRIPTION:
URL:https://ecetewksbury.com/event/bomb-squad-extra-practice-2022-04-15/
END:VEVENT
BEGIN:VEVENT
DTSTART;TZID=America/New_York:20220415T170000
DTEND;TZID=America/New_York:20220415T190000
DTSTAMP:20260423T115444
CREATED:20210923T234538Z
LAST-MODIFIED:20220329T212250Z
UID:8633-1650042000-1650049200@ecetewksbury.com
SUMMARY:Rebels Extra Practice
DESCRIPTION:
URL:https://ecetewksbury.com/event/rebels-extra-practice-2022-04-15/
CATEGORIES:Medium Senior 4.2
END:VEVENT
BEGIN:VEVENT
DTSTART;TZID=America/New_York:20220414T203000
DTEND;TZID=America/New_York:20220414T223000
DTSTAMP:20260423T115444
CREATED:20210807T203843Z
LAST-MODIFIED:20220302T174041Z
UID:7692-1649968200-1649975400@ecetewksbury.com
SUMMARY:SWAT Practice
DESCRIPTION:
URL:https://ecetewksbury.com/event/swat-practice-2022-04-14/
END:VEVENT
BEGIN:VEVENT
DTSTART;TZID=America/New_York:20220414T190000
DTEND;TZID=America/New_York:20220414T210000
DTSTAMP:20260423T115444
CREATED:20210925T003945Z
LAST-MODIFIED:20210925T003945Z
UID:8745-1649962800-1649970000@ecetewksbury.com
SUMMARY:Bomb Squad Extra Practice
DESCRIPTION:
URL:https://ecetewksbury.com/event/bomb-squad-extra-practice-2022-04-14/
END:VEVENT
BEGIN:VEVENT
DTSTART;TZID=America/New_York:20220414T190000
DTEND;TZID=America/New_York:20220414T210000
DTSTAMP:20260423T115444
CREATED:20210608T192818Z
LAST-MODIFIED:20220413T133925Z
UID:7347-1649962800-1649970000@ecetewksbury.com
SUMMARY:Bomb Girls Practice
DESCRIPTION:
URL:https://ecetewksbury.com/event/bomb-girls-practice-2022-04-14/
LOCATION:Tewksbury Location\, 1500 Shawsheen St.\, Tewksbury\, MA\, 01876\, United States
CATEGORIES:Senior 4
END:VEVENT
BEGIN:VEVENT
DTSTART;TZID=America/New_York:20220414T190000
DTEND;TZID=America/New_York:20220414T210000
DTSTAMP:20260423T115444
CREATED:20210608T191840Z
LAST-MODIFIED:20220209T193224Z
UID:7054-1649962800-1649970000@ecetewksbury.com
SUMMARY:Fierce 5 Practice
DESCRIPTION:
URL:https://ecetewksbury.com/event/fierce-5-practice-2022-04-14/
LOCATION:Tewksbury Location\, 1500 Shawsheen St.\, Tewksbury\, MA\, 01876\, United States
CATEGORIES:Junior 5
END:VEVENT
BEGIN:VEVENT
DTSTART;TZID=America/New_York:20220414T170000
DTEND;TZID=America/New_York:20220414T190000
DTSTAMP:20260423T115444
CREATED:20210925T000837Z
LAST-MODIFIED:20210925T000837Z
UID:8750-1649955600-1649962800@ecetewksbury.com
SUMMARY:Royal5 Extra Practice
DESCRIPTION:
URL:https://ecetewksbury.com/event/royal5-extra-practice-2022-04-14/
CATEGORIES:Senior Coed 5
END:VEVENT
BEGIN:VEVENT
DTSTART;TZID=America/New_York:20220413T190000
DTEND;TZID=America/New_York:20220413T210000
DTSTAMP:20260423T115444
CREATED:20210804T195646Z
LAST-MODIFIED:20220405T213114Z
UID:6965-1649876400-1649883600@ecetewksbury.com
SUMMARY:Wicked Practice
DESCRIPTION:
URL:https://ecetewksbury.com/event/wicked-practice-2-2022-04-13/
CATEGORIES:Junior 4
END:VEVENT
END:VCALENDAR